BEGIN:VCALENDAR
VERSION:2.0
PRODID:-//Tayside Classic Car Club - ECPv4.9.13//NONSGML v1.0//EN
CALSCALE:GREGORIAN
METHOD:PUBLISH
X-WR-CALNAME:Tayside Classic Car Club
X-ORIGINAL-URL:https://www.taysideclassiccarclub.co.uk
X-WR-CALDESC:Events for Tayside Classic Car Club
BEGIN:VTIMEZONE
TZID:UTC
BEGIN:STANDARD
TZOFFSETFROM:+0000
TZOFFSETTO:+0000
TZNAME:UTC
DTSTART:20260101T000000
END:STANDARD
END:VTIMEZONE
BEGIN:VEVENT
DTSTART;TZID=UTC:20260927T080000
DTEND;TZID=UTC:20260927T170000
DTSTAMP:20260421T112742
CREATED:20250306T112912Z
LAST-MODIFIED:20260202T090407Z
UID:4756-1790496000-1790528400@www.taysideclassiccarclub.co.uk
SUMMARY:Cheque Presentation 2026
DESCRIPTION:
URL:https://www.taysideclassiccarclub.co.uk/event/cheque-presentation/
END:VEVENT
END:VCALENDAR