BEGIN:VCALENDAR
VERSION:2.0
PRODID:-//Tayside Classic Car Club - ECPv4.9.13//NONSGML v1.0//EN
CALSCALE:GREGORIAN
METHOD:PUBLISH
X-WR-CALNAME:Tayside Classic Car Club
X-ORIGINAL-URL:https://www.taysideclassiccarclub.co.uk
X-WR-CALDESC:Events for Tayside Classic Car Club
BEGIN:VTIMEZONE
TZID:UTC
BEGIN:STANDARD
TZOFFSETFROM:+0000
TZOFFSETTO:+0000
TZNAME:UTC
DTSTART:20260101T000000
END:STANDARD
END:VTIMEZONE
BEGIN:VEVENT
DTSTART;TZID=UTC:20260726T080000
DTEND;TZID=UTC:20260726T170000
DTSTAMP:20260421T084904
CREATED:20230221T140633Z
LAST-MODIFIED:20260202T085730Z
UID:4642-1785052800-1785085200@www.taysideclassiccarclub.co.uk
SUMMARY:Sunday 26th July  2026 Scottish Ford Day  Lochgelly KY5 8BA -  Ford Cars Any Age – Others  Makes July 1984 or before
DESCRIPTION:
URL:https://www.taysideclassiccarclub.co.uk/event/teasses-vintage-classic-day-ceres-ky8-5pg/
END:VEVENT
END:VCALENDAR