BEGIN:VCALENDAR
VERSION:2.0
PRODID:-//Tayside Classic Car Club - ECPv4.9.13//NONSGML v1.0//EN
CALSCALE:GREGORIAN
METHOD:PUBLISH
X-WR-CALNAME:Tayside Classic Car Club
X-ORIGINAL-URL:https://www.taysideclassiccarclub.co.uk
X-WR-CALDESC:Events for Tayside Classic Car Club
BEGIN:VTIMEZONE
TZID:UTC
BEGIN:STANDARD
TZOFFSETFROM:+0000
TZOFFSETTO:+0000
TZNAME:UTC
DTSTART:20260101T000000
END:STANDARD
END:VTIMEZONE
BEGIN:VEVENT
DTSTART;TZID=UTC:20260503T080000
DTEND;TZID=UTC:20260503T170000
DTSTAMP:20260421T084943
CREATED:20230221T135024Z
LAST-MODIFIED:20260202T084447Z
UID:4634-1777795200-1777827600@www.taysideclassiccarclub.co.uk
SUMMARY:Road Run and Picnic Sunday 3rd May 2026
DESCRIPTION:
URL:https://www.taysideclassiccarclub.co.uk/event/road-run-and-picnic-tba-2/
END:VEVENT
END:VCALENDAR